BEGIN:VCALENDAR
VERSION:2.0
PRODID:icalendar-ruby
CALSCALE:GREGORIAN
METHOD:PUBLISH
BEGIN:VEVENT
DTSTAMP:20260423T132614Z
UID:5-1475598@rivercitycincy.com
DTSTART:20261101T190000Z
DTEND:20261101T200000Z
CLASS:PUBLIC
CREATED:20260423T053701
DESCRIPTION:Sunday Worship
LAST-MODIFIED:20260423T053701
LOCATION:
SUMMARY:Sunday Worship
URL;VALUE=URI:https://rivercitycincy.com/events/sunday-worship/2026-11-01
END:VEVENT
END:VCALENDAR
