BEGIN:VCALENDAR
VERSION:2.0
PRODID:icalendar-ruby
CALSCALE:GREGORIAN
METHOD:PUBLISH
BEGIN:VEVENT
DTSTAMP:20260421T081011Z
UID:7-1372621@rivercitycincy.com
DTSTART:20260503T170000Z
DTEND:20260504T063000Z
CLASS:PUBLIC
CREATED:20260308T124053
DESCRIPTION:
LAST-MODIFIED:20260308T124053
LOCATION:Norwood Recreation Center 
SUMMARY:Worship 
URL;VALUE=URI:https://rivercitycincy.com/events/worship/2026-05-03
END:VEVENT
END:VCALENDAR
