BEGIN:VCALENDAR
VERSION:2.0
PRODID:icalendar-ruby
CALSCALE:GREGORIAN
METHOD:PUBLISH
BEGIN:VEVENT
DTSTAMP:20260421T123549Z
UID:7-1372624@rivercitycincy.com
DTSTART:20260614T170000Z
DTEND:20260615T063000Z
CLASS:PUBLIC
CREATED:20260308T124053
DESCRIPTION:
LAST-MODIFIED:20260308T124053
LOCATION:Norwood Recreation Center 
SUMMARY:Worship 
URL;VALUE=URI:https://rivercitycincy.com/events/worship/2026-06-14
END:VEVENT
END:VCALENDAR
