BEGIN:VCALENDAR
VERSION:2.0
PRODID:icalendar-ruby
CALSCALE:GREGORIAN
METHOD:PUBLISH
BEGIN:VEVENT
DTSTAMP:20260421T152826Z
UID:7-1372626@rivercitycincy.com
DTSTART:20260712T170000Z
DTEND:20260713T063000Z
CLASS:PUBLIC
CREATED:20260308T124053
DESCRIPTION:
LAST-MODIFIED:20260308T124053
LOCATION:Norwood Recreation Center 
SUMMARY:Worship 
URL;VALUE=URI:https://rivercitycincy.com/events/worship/2026-07-12
END:VEVENT
END:VCALENDAR
